BEGIN:VCALENDAR
VERSION:2.0
PRODID:-//HELEMAAL LOESOE - ECPv6.15.20//NONSGML v1.0//EN
CALSCALE:GREGORIAN
METHOD:PUBLISH
X-WR-CALNAME:HELEMAAL LOESOE
X-ORIGINAL-URL:https://www.helemaalloesoe.nl
X-WR-CALDESC:Evenementen voor HELEMAAL LOESOE
REFRESH-INTERVAL;VALUE=DURATION:PT1H
X-Robots-Tag:noindex
X-PUBLISHED-TTL:PT1H
BEGIN:VTIMEZONE
TZID:Europe/Amsterdam
BEGIN:DAYLIGHT
TZOFFSETFROM:+0100
TZOFFSETTO:+0200
TZNAME:CEST
DTSTART:20250330T010000
END:DAYLIGHT
BEGIN:STANDARD
TZOFFSETFROM:+0200
TZOFFSETTO:+0100
TZNAME:CET
DTSTART:20251026T010000
END:STANDARD
BEGIN:DAYLIGHT
TZOFFSETFROM:+0100
TZOFFSETTO:+0200
TZNAME:CEST
DTSTART:20260329T010000
END:DAYLIGHT
BEGIN:STANDARD
TZOFFSETFROM:+0200
TZOFFSETTO:+0100
TZNAME:CET
DTSTART:20261025T010000
END:STANDARD
BEGIN:DAYLIGHT
TZOFFSETFROM:+0100
TZOFFSETTO:+0200
TZNAME:CEST
DTSTART:20270328T010000
END:DAYLIGHT
BEGIN:STANDARD
TZOFFSETFROM:+0200
TZOFFSETTO:+0100
TZNAME:CET
DTSTART:20271031T010000
END:STANDARD
END:VTIMEZONE
BEGIN:VEVENT
DTSTART;VALUE=DATE:20260512
DTEND;VALUE=DATE:20260518
DTSTAMP:20260417T023236
CREATED:20251003T093110Z
LAST-MODIFIED:20251003T093110Z
UID:40881-1778544000-1779062399@www.helemaalloesoe.nl
SUMMARY:Boost je BiZZ Workation in Spanje
DESCRIPTION:Werken aan je bedrijf onder de Spaanse zon ☀️\nJezelf 6 dagen onderdompelen in rust met volle focus voor je bedrijf en ondertussen verwend worden met de heerlijkste gerechten\, inspirerende gesprekken en zoveel content hebben\, dat je nog maanden vooruit kunt. \nHoe lekker zou dat zijn? \nSluit je ook aan bij de Boost je BiZZ Workation van 12 – 17 mei 2026. En we gaan naar de prachtige B&B van niemand minder dan Debbie (B&B vol liefde) in Girona – Spanje! \nWat gaan we doen?\nWe gaan werken aan je online marketing: je website\, de vindbaarheid ervan in Google en in Chat\, je zichtbaarheid op de socials\, je content\, je aanbod\, en nog veel meer… We gaan foto’s en video’s maken\, blogs en salespages schrijven en je aanbod scherper neerzetten\, zodat jij na deze workation helemaal klaar bent voor meer klanten. \nDe deelnemers zijn allemaal vrouw en ondernemer\, maar divers en ieder neemt haar eigen ervaring in het ondernemerschap mee. Dat is zó waardevol tijdens de masterminds die we gaan houden. We helpen elkaar echt vooruit! \nEr zal ook genoeg tijd zijn voor even helemaal niks… gewoon zitten bij het zwembad\, een duik nemen\, muziekje op\, boekje erbij\, museumpje pakken\, strandje bezoeken… echt even tijd voor jezelf. De boog kan tenslotte niet de hele tijd gespannen zijn. \nJe gaat uitgerust naar huis met genoeg content voor weken en met genoeg inspiratie en zin om daarna x 10 te gaan.
URL:https://www.helemaalloesoe.nl/community-event/boost-je-bizz-workation-in-spanje/
LOCATION:gerona\, spanje\, Can Portell\, Placa Esglesia 6\, Sant Andreu del Terri\, 17845
CATEGORIES:Offline
ATTACH;FMTTYPE=image/jpeg:https://www.helemaalloesoe.nl/wp-content/uploads/2025/10/foto-collage-girona.jpg
ORGANIZER;CN="Boost je BiZZ - Esm%C3%A9e Branbergen":MAILTO:esmee@boostjebizz.nl
END:VEVENT
END:VCALENDAR